BEGIN:VCALENDAR
VERSION:2.0
PRODID:-//Sabre//Sabre VObject 3.5.3//EN
CALSCALE:GREGORIAN
BEGIN:VEVENT
UID:gwbase-vobject-6f9ec2b4-4fca-443e-9760-a36ad13b77fc
SUMMARY:Søndagsåpent ved Brevik bymuseum
DTSTAMP:20260419T205542Z
DTSTART:20200628T100000Z
ORGANIZER;CN=Brevik historielag:mailto:brevikhistorielag@gmail.com
DTEND:20200816T130000Z
LOCATION:Brevik bymuseum 
DESCRIPTION: 
X-ALT-DESC;FMTTYPE=text/html:<!DOCTYPE HTML PUBLIC "-//W3C//DTD HTML 3.2//E
 N">\n<HTML>\n<HEAD>\n<TITLE>Søndagsåpent ved Brevik bymuseum</TITLE>\n</
 HEAD>\n<BODY></BODY></HTML>
END:VEVENT
END:VCALENDAR
