BEGIN:VCALENDAR
VERSION:2.0
PRODID:-//Sabre//Sabre VObject 3.5.3//EN
CALSCALE:GREGORIAN
BEGIN:VEVENT
UID:gwbase-vobject-db4a866c-870f-41d1-9bc6-2d58b59bf3c5
SUMMARY:Cort Adeler foredrag 
DTSTAMP:20260419T165115Z
DTSTART:20220406T170000Z
ORGANIZER;CN=Brevik historielag:mailto:brevikhistorielag@gmail.com
DESCRIPTION: 
X-ALT-DESC;FMTTYPE=text/html:<!DOCTYPE HTML PUBLIC "-//W3C//DTD HTML 3.2//E
 N">\n<HTML>\n<HEAD>\n<TITLE>Cort Adeler foredrag </TITLE>\n</HEAD>\n<BODY>
 </BODY></HTML>
END:VEVENT
END:VCALENDAR
