BEGIN:VCALENDAR
VERSION:2.0
PRODID:-//Sabre//Sabre VObject 3.5.3//EN
CALSCALE:GREGORIAN
BEGIN:VEVENT
UID:gwbase-vobject-3b3ea645-d376-44a5-9341-746c5c1df1e8
SUMMARY:Årsmøte 2024
DTSTAMP:20260422T053308Z
DTSTART:20240228T170000Z
ORGANIZER;CN=Brevik historielag:mailto:brevikhistorielag@gmail.com
DTEND:20240228T190000Z
LOCATION:Brevik rådhus/bymuseum
DESCRIPTION: \nÅrsmøtet i Brevik historelag holdes i rådhuset\, onsdag\,
  28.februar\nkl. 18-20.\n
X-ALT-DESC;FMTTYPE=text/html:<!DOCTYPE HTML PUBLIC "-//W3C//DTD HTML 3.2//E
 N">\n<HTML>\n<HEAD>\n<TITLE>Årsmøte 2024</TITLE>\n</HEAD>\n<BODY><p>Års
 møtet i Brevik historelag holdes i rådhuset\, onsdag\, 28.februar kl. 18
 -20.</p></BODY></HTML>
END:VEVENT
END:VCALENDAR
